BEGIN:VCALENDAR
VERSION:2.0
PRODID:-//Fotoclub &#039;59 - ECPv6.15.16//NONSGML v1.0//EN
CALSCALE:GREGORIAN
METHOD:PUBLISH
X-WR-CALNAME:Fotoclub &#039;59
X-ORIGINAL-URL:https://fc59delft.nl/wordpress
X-WR-CALDESC:Evenementen voor Fotoclub &#039;59
REFRESH-INTERVAL;VALUE=DURATION:PT1H
X-Robots-Tag:noindex
X-PUBLISHED-TTL:PT1H
BEGIN:VTIMEZONE
TZID:Europe/Helsinki
BEGIN:DAYLIGHT
TZOFFSETFROM:+0200
TZOFFSETTO:+0300
TZNAME:EEST
DTSTART:20250330T010000
END:DAYLIGHT
BEGIN:STANDARD
TZOFFSETFROM:+0300
TZOFFSETTO:+0200
TZNAME:EET
DTSTART:20251026T010000
END:STANDARD
BEGIN:DAYLIGHT
TZOFFSETFROM:+0200
TZOFFSETTO:+0300
TZNAME:EEST
DTSTART:20260329T010000
END:DAYLIGHT
BEGIN:STANDARD
TZOFFSETFROM:+0300
TZOFFSETTO:+0200
TZNAME:EET
DTSTART:20261025T010000
END:STANDARD
BEGIN:DAYLIGHT
TZOFFSETFROM:+0200
TZOFFSETTO:+0300
TZNAME:EEST
DTSTART:20270328T010000
END:DAYLIGHT
BEGIN:STANDARD
TZOFFSETFROM:+0300
TZOFFSETTO:+0200
TZNAME:EET
DTSTART:20271031T010000
END:STANDARD
END:VTIMEZONE
BEGIN:VEVENT
DTSTART;TZID=Europe/Helsinki:20260329T090000
DTEND;TZID=Europe/Helsinki:20260329T120000
DTSTAMP:20260420T075747
CREATED:20260204T150405Z
LAST-MODIFIED:20260316T101151Z
UID:2043-1774774800-1774785600@fc59delft.nl
SUMMARY:Natuurwerkgroep: excursie naar Staelduinse bos
DESCRIPTION:Parkeerplaats \nOude Hooislag 2.\n’s-Gravenzande\n51.976637\, 4.161552 \n(51°58’35.9″N 4°09’41.6″E) \nReistijd ongeveer 30 minuten (gerekend vanaf het clubhuis) \nBezoekerscentrum \nd’Oude Koestal\nPeppellaan 4\,\n’s-Gravenzande 243 \nOpen om 11:00 \, koffie en thee verkrijgbaar \n07:25 Zonsopkomst in ’s-Gravenzande
URL:https://fc59delft.nl/wordpress/event/natuurwerkgroep-excursie-naar-ntb-2/
LOCATION:Staelduinse bos\, Oude Hooislag 2\, 's-Gravenzande\, Zuid-Holland\, Netherlands
CATEGORIES:Natuurgroep
END:VEVENT
END:VCALENDAR