BEGIN:VCALENDAR
VERSION:2.0
PRODID:-//Fotoclub &#039;59 - ECPv6.15.16//NONSGML v1.0//EN
CALSCALE:GREGORIAN
METHOD:PUBLISH
X-ORIGINAL-URL:https://fc59delft.nl/wordpress
X-WR-CALDESC:Evenementen voor Fotoclub &#039;59
REFRESH-INTERVAL;VALUE=DURATION:PT1H
X-Robots-Tag:noindex
X-PUBLISHED-TTL:PT1H
BEGIN:VTIMEZONE
TZID:Europe/Helsinki
BEGIN:DAYLIGHT
TZOFFSETFROM:+0200
TZOFFSETTO:+0300
TZNAME:EEST
DTSTART:20250330T010000
END:DAYLIGHT
BEGIN:STANDARD
TZOFFSETFROM:+0300
TZOFFSETTO:+0200
TZNAME:EET
DTSTART:20251026T010000
END:STANDARD
BEGIN:DAYLIGHT
TZOFFSETFROM:+0200
TZOFFSETTO:+0300
TZNAME:EEST
DTSTART:20260329T010000
END:DAYLIGHT
BEGIN:STANDARD
TZOFFSETFROM:+0300
TZOFFSETTO:+0200
TZNAME:EET
DTSTART:20261025T010000
END:STANDARD
BEGIN:DAYLIGHT
TZOFFSETFROM:+0200
TZOFFSETTO:+0300
TZNAME:EEST
DTSTART:20270328T010000
END:DAYLIGHT
BEGIN:STANDARD
TZOFFSETFROM:+0300
TZOFFSETTO:+0200
TZNAME:EET
DTSTART:20271031T010000
END:STANDARD
END:VTIMEZONE
BEGIN:VEVENT
DTSTART;TZID=Europe/Helsinki:20260407T193000
DTEND;TZID=Europe/Helsinki:20260407T223000
DTSTAMP:20260419T152911
CREATED:20260204T150935Z
LAST-MODIFIED:20260218T094834Z
UID:2047-1775590200-1775601000@fc59delft.nl
SUMMARY:1e Natuurwerkgroep bespreekavond
DESCRIPTION:
URL:https://fc59delft.nl/wordpress/event/1e-natuurwerkgroep-bespreekavond/
LOCATION:Clubhuis\, Beukenlaan 1\, Delft\, Zuid Holland\, 2612 VC\, Netherlands
CATEGORIES:Natuurgroep
END:VEVENT
END:VCALENDAR