BEGIN:VCALENDAR
VERSION:2.0
PRODID:-//Fotoclub &#039;59 - ECPv6.15.16//NONSGML v1.0//EN
CALSCALE:GREGORIAN
METHOD:PUBLISH
X-WR-CALNAME:Fotoclub &#039;59
X-ORIGINAL-URL:https://fc59delft.nl/wordpress
X-WR-CALDESC:Evenementen voor Fotoclub &#039;59
REFRESH-INTERVAL;VALUE=DURATION:PT1H
X-Robots-Tag:noindex
X-PUBLISHED-TTL:PT1H
BEGIN:VTIMEZONE
TZID:Europe/Helsinki
BEGIN:DAYLIGHT
TZOFFSETFROM:+0200
TZOFFSETTO:+0300
TZNAME:EEST
DTSTART:20250330T010000
END:DAYLIGHT
BEGIN:STANDARD
TZOFFSETFROM:+0300
TZOFFSETTO:+0200
TZNAME:EET
DTSTART:20251026T010000
END:STANDARD
BEGIN:DAYLIGHT
TZOFFSETFROM:+0200
TZOFFSETTO:+0300
TZNAME:EEST
DTSTART:20260329T010000
END:DAYLIGHT
BEGIN:STANDARD
TZOFFSETFROM:+0300
TZOFFSETTO:+0200
TZNAME:EET
DTSTART:20261025T010000
END:STANDARD
BEGIN:DAYLIGHT
TZOFFSETFROM:+0200
TZOFFSETTO:+0300
TZNAME:EEST
DTSTART:20270328T010000
END:DAYLIGHT
BEGIN:STANDARD
TZOFFSETFROM:+0300
TZOFFSETTO:+0200
TZNAME:EET
DTSTART:20271031T010000
END:STANDARD
END:VTIMEZONE
BEGIN:VEVENT
DTSTART;TZID=Europe/Helsinki:20260430T200000
DTEND;TZID=Europe/Helsinki:20260430T223000
DTSTAMP:20260420T140140
CREATED:20260404T115147Z
LAST-MODIFIED:20260404T115147Z
UID:2173-1777579200-1777588200@fc59delft.nl
SUMMARY:Lezing Mariëtte Aernoudts bij FLV
DESCRIPTION:Lezing Mariëtte Aernoudts bij Fotokring Leidschendam-Voorburg om 20.00 uur \nhttps://www.marietteaernoudts.nl/
URL:https://fc59delft.nl/wordpress/event/lezing-mariette-aernoudts-bij-flv/
END:VEVENT
END:VCALENDAR