BEGIN:VCALENDAR
VERSION:2.0
PRODID:-//Fotoclub &#039;59 - ECPv6.15.16//NONSGML v1.0//EN
CALSCALE:GREGORIAN
METHOD:PUBLISH
X-WR-CALNAME:Fotoclub &#039;59
X-ORIGINAL-URL:https://fc59delft.nl/wordpress
X-WR-CALDESC:Evenementen voor Fotoclub &#039;59
REFRESH-INTERVAL;VALUE=DURATION:PT1H
X-Robots-Tag:noindex
X-PUBLISHED-TTL:PT1H
BEGIN:VTIMEZONE
TZID:Europe/Helsinki
BEGIN:DAYLIGHT
TZOFFSETFROM:+0200
TZOFFSETTO:+0300
TZNAME:EEST
DTSTART:20240331T010000
END:DAYLIGHT
BEGIN:STANDARD
TZOFFSETFROM:+0300
TZOFFSETTO:+0200
TZNAME:EET
DTSTART:20241027T010000
END:STANDARD
BEGIN:DAYLIGHT
TZOFFSETFROM:+0200
TZOFFSETTO:+0300
TZNAME:EEST
DTSTART:20250330T010000
END:DAYLIGHT
BEGIN:STANDARD
TZOFFSETFROM:+0300
TZOFFSETTO:+0200
TZNAME:EET
DTSTART:20251026T010000
END:STANDARD
BEGIN:DAYLIGHT
TZOFFSETFROM:+0200
TZOFFSETTO:+0300
TZNAME:EEST
DTSTART:20260329T010000
END:DAYLIGHT
BEGIN:STANDARD
TZOFFSETFROM:+0300
TZOFFSETTO:+0200
TZNAME:EET
DTSTART:20261025T010000
END:STANDARD
BEGIN:DAYLIGHT
TZOFFSETFROM:+0200
TZOFFSETTO:+0300
TZNAME:EEST
DTSTART:20270328T010000
END:DAYLIGHT
BEGIN:STANDARD
TZOFFSETFROM:+0300
TZOFFSETTO:+0200
TZNAME:EET
DTSTART:20271031T010000
END:STANDARD
END:VTIMEZONE
BEGIN:VEVENT
DTSTART;TZID=Europe/Helsinki:20260113T194500
DTEND;TZID=Europe/Helsinki:20260113T223000
DTSTAMP:20260424T105725
CREATED:20251217T065317Z
LAST-MODIFIED:20251218T114102Z
UID:2011-1768333500-1768343400@fc59delft.nl
SUMMARY:Mentoraat
DESCRIPTION:
URL:https://fc59delft.nl/wordpress/event/mentoraat/
LOCATION:Clubhuis\, Beukenlaan 1\, Delft\, Zuid Holland\, 2612 VC\, Netherlands
CATEGORIES:Leden
END:VEVENT
BEGIN:VEVENT
DTSTART;TZID=Europe/Helsinki:20260106T200000
DTEND;TZID=Europe/Helsinki:20260106T223000
DTSTAMP:20260424T105725
CREATED:20251113T131715Z
LAST-MODIFIED:20260105T122125Z
UID:2002-1767729600-1767738600@fc59delft.nl
SUMMARY:Nieuwjaarsborrel gecanceld!
DESCRIPTION:De nieuwjaarsborrel\, ook wel “Bitterballenavond” genoemd is vanwege de verwachtte weersomstandigheden gecanceld!
URL:https://fc59delft.nl/wordpress/event/nieuwjaarsborrel/
LOCATION:Clubhuis\, Beukenlaan 1\, Delft\, Zuid Holland\, 2612 VC\, Netherlands
CATEGORIES:Clubavond,Leden
END:VEVENT
BEGIN:VEVENT
DTSTART;TZID=Europe/Helsinki:20251219T190000
DTEND;TZID=Europe/Helsinki:20251219T220000
DTSTAMP:20260424T105725
CREATED:20251113T083328Z
LAST-MODIFIED:20251113T083328Z
UID:1999-1766170800-1766181600@fc59delft.nl
SUMMARY:Jaardiner
DESCRIPTION:Dit jaar is het afsluitende diner bij Franky’s aan de Paardenmarkt 74\, 2611 PD Delft. \n\nFranky’s staat bekend om haar tien professionele bowlingbanen met automatische scoreverwerking en een spectaculaire LED-show.\nWe hebben gekozen voor bowlen en grillen: aan tafel kun je zelf vlees of vegetarische etenswaren grillen.\n \nPartners zijn van harte welkom! \n 
URL:https://fc59delft.nl/wordpress/event/jaardiner/
LOCATION:Zuid-Holland
CATEGORIES:Clubavond
END:VEVENT
BEGIN:VEVENT
DTSTART;TZID=Europe/Helsinki:20251217T080000
DTEND;TZID=Europe/Helsinki:20251217T170000
DTSTAMP:20260424T105725
CREATED:20251217T065813Z
LAST-MODIFIED:20251217T065813Z
UID:2015-1765958400-1765990800@fc59delft.nl
SUMMARY:Excursie Natuurgroep
DESCRIPTION:Locatie en tijd nog nader te bepalen
URL:https://fc59delft.nl/wordpress/event/excursie-natuurgroep/
LOCATION:Zuid-Holland
CATEGORIES:Natuurgroep
END:VEVENT
BEGIN:VEVENT
DTSTART;TZID=Europe/Helsinki:20251216T193000
DTEND;TZID=Europe/Helsinki:20251216T223000
DTSTAMP:20260424T105725
CREATED:20251113T082127Z
LAST-MODIFIED:20251113T082127Z
UID:1997-1765913400-1765924200@fc59delft.nl
SUMMARY:Uitslag Jaarwedstrijd 2025
DESCRIPTION:
URL:https://fc59delft.nl/wordpress/event/uitslag-jaarwedstrijd-2025/
LOCATION:Clubhuis\, Beukenlaan 1\, Delft\, Zuid Holland\, 2612 VC\, Netherlands
CATEGORIES:Clubavond
END:VEVENT
BEGIN:VEVENT
DTSTART;TZID=Europe/Helsinki:20251202T193000
DTEND;TZID=Europe/Helsinki:20251202T223000
DTSTAMP:20260424T105725
CREATED:20251113T081834Z
LAST-MODIFIED:20251113T081834Z
UID:1994-1764703800-1764714600@fc59delft.nl
SUMMARY:Uitslag wedstrijd
DESCRIPTION:Uitslag wedstrijd digitaal met thema: Openbaar vervoer
URL:https://fc59delft.nl/wordpress/event/uitslag-wedstrijd/
LOCATION:Clubhuis\, Beukenlaan 1\, Delft\, Zuid Holland\, 2612 VC\, Netherlands
CATEGORIES:Clubavond
END:VEVENT
BEGIN:VEVENT
DTSTART;TZID=Europe/Helsinki:20251130T083000
DTEND;TZID=Europe/Helsinki:20251130T113000
DTSTAMP:20260424T105725
CREATED:20251113T081520Z
LAST-MODIFIED:20251129T141056Z
UID:1992-1764491400-1764502200@fc59delft.nl
SUMMARY:Excursie Natuurgroep Geannuleerd
DESCRIPTION:Geannuleerd i.v.m. slechte weersomstandigheden.
URL:https://fc59delft.nl/wordpress/event/excursie-natuurgroep-4/
LOCATION:Zuid-Holland
CATEGORIES:Natuurgroep
END:VEVENT
BEGIN:VEVENT
DTSTART;TZID=Europe/Helsinki:20251125T193000
DTEND;TZID=Europe/Helsinki:20251125T223000
DTSTAMP:20260424T105725
CREATED:20251113T072958Z
LAST-MODIFIED:20251125T064908Z
UID:1988-1764099000-1764109800@fc59delft.nl
SUMMARY:10e vrijwerk avond
DESCRIPTION:
URL:https://fc59delft.nl/wordpress/event/10e-vrijwerk-avond/
LOCATION:Clubhuis\, Beukenlaan 1\, Delft\, Zuid Holland\, 2612 VC\, Netherlands
CATEGORIES:vrij werkavond
END:VEVENT
BEGIN:VEVENT
DTSTART;TZID=Europe/Helsinki:20251118T193000
DTEND;TZID=Europe/Helsinki:20251118T220000
DTSTAMP:20260424T105725
CREATED:20251113T073634Z
LAST-MODIFIED:20251125T064810Z
UID:1990-1763494200-1763503200@fc59delft.nl
SUMMARY:Clubavond
DESCRIPTION:Fotoclub Diafragma is te gast en zal een boeiend verhaal houden.
URL:https://fc59delft.nl/wordpress/event/clubavond/
LOCATION:Clubhuis\, Beukenlaan 1\, Delft\, Zuid Holland\, 2612 VC\, Netherlands
CATEGORIES:Clubavond
END:VEVENT
BEGIN:VEVENT
DTSTART;TZID=Europe/Helsinki:20251111T194500
DTEND;TZID=Europe/Helsinki:20251111T223000
DTSTAMP:20260424T105725
CREATED:20250918T134717Z
LAST-MODIFIED:20250918T134717Z
UID:1979-1762890300-1762900200@fc59delft.nl
SUMMARY:Presentatie Fotoketting 2025
DESCRIPTION:Presentatie van de twee fotokettingen gemaakt door meer dan 20 leden en hun motivatie om juist die foto in te sturen.
URL:https://fc59delft.nl/wordpress/event/presentatie-fotoketting-2025/
LOCATION:Clubhuis\, Beukenlaan 1\, Delft\, Zuid Holland\, 2612 VC\, Netherlands
CATEGORIES:Fotoketting,Leden
END:VEVENT
BEGIN:VEVENT
DTSTART;TZID=Europe/Helsinki:20251104T194500
DTEND;TZID=Europe/Helsinki:20251104T223000
DTSTAMP:20260424T105725
CREATED:20250918T104257Z
LAST-MODIFIED:20250918T104257Z
UID:1977-1762285500-1762295400@fc59delft.nl
SUMMARY:Mentoraat
DESCRIPTION:
URL:https://fc59delft.nl/wordpress/event/mentoraat-2/
LOCATION:Zuid-Holland
CATEGORIES:Leden,Mentoraat
END:VEVENT
BEGIN:VEVENT
DTSTART;TZID=Europe/Helsinki:20251028T194500
DTEND;TZID=Europe/Helsinki:20251028T223000
DTSTAMP:20260424T105725
CREATED:20250918T104055Z
LAST-MODIFIED:20250918T104055Z
UID:1975-1761680700-1761690600@fc59delft.nl
SUMMARY:Presentatie Natuurgroep en foto's clubtochten
DESCRIPTION:
URL:https://fc59delft.nl/wordpress/event/presentatie-natuurgroep-en-fotos-clubtochten/
LOCATION:Clubhuis\, Beukenlaan 1\, Delft\, Zuid Holland\, 2612 VC\, Netherlands
CATEGORIES:Clubavond
END:VEVENT
BEGIN:VEVENT
DTSTART;TZID=Europe/Helsinki:20251026T073000
DTEND;TZID=Europe/Helsinki:20251026T103000
DTSTAMP:20260424T105725
CREATED:20250918T103627Z
LAST-MODIFIED:20251022T111102Z
UID:1973-1761463800-1761474600@fc59delft.nl
SUMMARY:Excursie Natuurgroep
DESCRIPTION:Leersumse Veld op de Utrechtse Heuvelrug
URL:https://fc59delft.nl/wordpress/event/excursie-natuurgroep-3/
LOCATION:Maarsbergseweg 18a\, 3956 KW Leersum\, Maarsbergseweg 18a\, Leersum\, Utrecht\, 3956 KW\, Netherlands
CATEGORIES:Natuurgroep
END:VEVENT
BEGIN:VEVENT
DTSTART;TZID=Europe/Helsinki:20251021T194500
DTEND;TZID=Europe/Helsinki:20251021T223000
DTSTAMP:20260424T105725
CREATED:20250918T103217Z
LAST-MODIFIED:20250918T103217Z
UID:1971-1761075900-1761085800@fc59delft.nl
SUMMARY:Bespreekavond Natuurgroep
DESCRIPTION:
URL:https://fc59delft.nl/wordpress/event/bespreekavond-natuurgroep/
LOCATION:Clubhuis\, Beukenlaan 1\, Delft\, Zuid Holland\, 2612 VC\, Netherlands
CATEGORIES:Natuurgroep
END:VEVENT
BEGIN:VEVENT
DTSTART;TZID=Europe/Helsinki:20251014T193000
DTEND;TZID=Europe/Helsinki:20251014T223000
DTSTAMP:20260424T105725
CREATED:20250802T122320Z
LAST-MODIFIED:20250802T122320Z
UID:1960-1760470200-1760481000@fc59delft.nl
SUMMARY:9e vrijwerk avond
DESCRIPTION:
URL:https://fc59delft.nl/wordpress/event/9e-vrijwerk-avond/
LOCATION:Clubhuis\, Beukenlaan 1\, Delft\, Zuid Holland\, 2612 VC\, Netherlands
CATEGORIES:Leden
END:VEVENT
BEGIN:VEVENT
DTSTART;VALUE=DATE:20250823
DTEND;VALUE=DATE:20250824
DTSTAMP:20260424T105725
CREATED:20250524T075819Z
LAST-MODIFIED:20250805T073508Z
UID:1916-1755907200-1755993599@fc59delft.nl
SUMMARY:FC ´59 Clubtocht: Dordrecht
DESCRIPTION:Vanaf Rotterdam met Waterbus. \nHalte Willemskade Erasmusbrug! \n  \nInfo zie ook: http://www.waterbus.nl \n  \nVerder info volgt.
URL:https://fc59delft.nl/wordpress/event/fc-59-clubtocht-dordrecht/
LOCATION:Halte Waterbus\, Willemskade\, Rotterdam\, 3016 DK
CATEGORIES:Leden
END:VEVENT
BEGIN:VEVENT
DTSTART;TZID=Europe/Helsinki:20250819T193000
DTEND;TZID=Europe/Helsinki:20250819T223000
DTSTAMP:20260424T105725
CREATED:20250524T074713Z
LAST-MODIFIED:20250524T074713Z
UID:1913-1755631800-1755642600@fc59delft.nl
SUMMARY:FC ´59 7e vrijwerk avond
DESCRIPTION:Beamer – print \n 
URL:https://fc59delft.nl/wordpress/event/fc-59-7e-vrijwerk-avond/
LOCATION:Clubhuis\, Beukenlaan 1\, Delft\, Zuid Holland\, 2612 VC\, Netherlands
CATEGORIES:Werkavond
END:VEVENT
END:VCALENDAR